BEGIN:VCALENDAR
VERSION:2.0
PRODID:-//FUNDACJA WZRASTAMY - ECPv6.9.1//NONSGML v1.0//EN
CALSCALE:GREGORIAN
METHOD:PUBLISH
X-ORIGINAL-URL:https://fundacjawzrastamy.org.pl
X-WR-CALDESC:Wydarzenia dla FUNDACJA WZRASTAMY
REFRESH-INTERVAL;VALUE=DURATION:PT1H
X-Robots-Tag:noindex
X-PUBLISHED-TTL:PT1H
BEGIN:VTIMEZONE
TZID:Europe/Warsaw
BEGIN:DAYLIGHT
TZOFFSETFROM:+0100
TZOFFSETTO:+0200
TZNAME:CEST
DTSTART:20260329T010000
END:DAYLIGHT
BEGIN:STANDARD
TZOFFSETFROM:+0200
TZOFFSETTO:+0100
TZNAME:CET
DTSTART:20261025T010000
END:STANDARD
END:VTIMEZONE
BEGIN:VEVENT
DTSTART;TZID=Europe/Warsaw:20260504T170000
DTEND;TZID=Europe/Warsaw:20260504T200000
DTSTAMP:20260423T001030
CREATED:20260413T073459Z
LAST-MODIFIED:20260417T072602Z
UID:6749-1777914000-1777924800@fundacjawzrastamy.org.pl
SUMMARY:💪 Rodzicielskie SUPERmoce 👨‍👩‍👧‍👦 – warsztaty dla rodziców z Miasta Siedlce
DESCRIPTION:🦸‍♀️ Rodzicielskie SUPERmoce 👨‍👩‍👧‍👦Szkoła dla Rodziców i Wychowawców – cz. I „Relacje i dialog” \nZapraszamy rodziców na wyjątkowy cykl warsztatów\, który pomoże odkryć i wzmocnić Twoje rodzicielskie SUPERmoce – cierpliwość\, uważność\, mądrą komunikację i budowanie bliskiej relacji z dzieckiem. 💛 \nTo 10 spotkań warsztatowych\, podczas których w bezpiecznej\, wspierającej atmosferze będziemy wspólnie przyglądać się codziennym wyzwaniom wychowawczym i szukać skutecznych sposobów budowania relacji z dzieckiem. \nProgram „Szkoła dla Rodziców i Wychowawców” jest rekomendowanym programem profilaktycznym wspierającym dorosłych w radzeniu sobie w codziennych kontaktach z dziećmi oraz w rozwijaniu umiejętności dobrej komunikacji\, refleksji nad własną postawą wychowawczą i budowania relacji opartych na szacunku i dialogu. \nPodczas warsztatów:💬 nauczysz się lepiej rozumieć emocje swoje i dziecka\,👂 poznasz zasady aktywnego słuchania i dialogu\,🧭 dowiesz się\, jak stawiać jasne granice i wymagania\,🤝 nauczysz się zachęcać dziecko do współpracy zamiast walki\,💡 poznasz sposoby rozwiązywania konfliktów i trudnych sytuacji\,🌱 dowiesz się\, jak wzmacniać poczucie własnej wartości dziecka i wspierać jego samodzielność. \nWarsztaty mają charakter praktyczny i warsztatowy – oprócz wiedzy będzie przestrzeń na ćwiczenia\, wymianę doświadczeń i refleksję nad własnym stylem wychowania. \nPodczas 10 cotygodniowych spotkań rodzice rozwijają umiejętności budowania dobrej relacji z dzieckiem\, uczą się okazywania szacunku dla jego uczuć i potrzeb\, a jednocześnie stawiania granic i zasad ważnych w rodzinie. \n✨ To nie jest wykład.To praktyczna szkoła relacji z dzieckiem. \nBo wychowywać to kochać i wymagać. 💛 \nLiczba miejsc ograniczona – zapisz się już dziś! \n\nZajęcia będą odbywały się co tydzień we poniedziałki w godzinach 17:00-20:00 w grupie max. 16-osobowej. \nTerminy spotkań: 2026 🎯maj 4\, 11\, 18\, 25 🎯czerwiec 1\, 8\, 15\, 22\, 29 🎯lipiec 6 \nGdzie? – Klub Młodzieżowy Miasta Siedlce\, ul. Sienkiewicza 32\, Siedlce \n\n  \n\n👨‍👩‍👧‍👦 Warsztaty skierowane są do rodziców i opiekunów dzieci\, którzy chcą rozwijać swoje kompetencje wychowawcze i budować bliższą relację z dzieckiem. \nWarsztaty są bezpłatne💸 \nWarsztaty dla Mieszkańców Miasta Siedlce. \n\n  \nProwadzące zajęcia: Iza Majewska i Joanna Fido \nPedagożki\, trenerki programów rekomendowanych dla dzieci\, młodzieży i rodziców w tym programu „Szkoła dla rodziców i wychowawców”\, mamy dorosłych synów\, które na bazie wiedzy i własnych doświadczeń wspierają dzieci i rodziców w budowaniu dobrostanu psychicznego i relacji rodzinnych. \n  \n\nZAPISY !!!!\nPobierz bezpłatny bilet poniżej.\nNa maila dostaniesz potwierdzenie zapisu. Jeżeli potwierdzenie nie przyjdzie skontaktuj się z nami: kontakt@fundacjawzrastamy.org.pl\nTydzień przed wydarzeniem otrzymasz e-mail z prośbą o potwierdzenie obecności.\nPamiętaj\, że jeżeli z jakiejś przyczyny nie możesz pojawić się na wydarzeniu poinformuj nas o tym\, wysyłając e-mail na adres kontakt@fundacjawzrastamy.org.pl\n\n  \n💖 Projekt „Odporni na życie” jest dofinansowany ze środków Miasta Siedlce w zakresie zadania: Przeciwdziałanie uzależnieniom i patologiom społecznym. 💖
URL:https://fundacjawzrastamy.org.pl/wydarzenie/rodzicielskie-supermoce-warsztaty-dla-rodzicow-z-miasta-siedlce-2/
LOCATION:Klub Młodzieżowy Miasta Siedlce\, ul. Sienkiewicza 32\, Siedlce\, 08-110\, Poland
CATEGORIES:Akademia emocji,Bezpłatne,Warsztaty dla Rodziców
ATTACH;FMTTYPE=image/png:https://fundacjawzrastamy.org.pl/wp-content/uploads/2026/04/Odporni-na-zycie-UM-Siedlce.png
ORGANIZER;CN="Fundacja WZRASTAMY":MAILTO:kontakt@fundacjawzrastamy.org.pl
END:VEVENT
BEGIN:VEVENT
DTSTART;TZID=Europe/Warsaw:20260509T090000
DTEND;TZID=Europe/Warsaw:20260509T100000
DTSTAMP:20260423T001030
CREATED:20260412T070302Z
LAST-MODIFIED:20260412T070302Z
UID:6595-1778317200-1778320800@fundacjawzrastamy.org.pl
SUMMARY:Królewskie Kucyki – zajęcia hipoterapii dla dzieci 3-6 lat z Miasta Siedlce
DESCRIPTION:Zapraszamy dzieci w wieku 3-6 lat na zajęcia hipoterapii\n„KRÓLEWSKIE KUCYKI”\nCelem zajęć hipoterapii jest rozwijanie u dzieci empatii i wrażliwości do zwierząt oraz poczucia sprawczości. Dzieci w kontakcie i obejściu z koniem czują się pewne\, silniejsze i spokojniejsze. Wykorzystując obecność kucyków poćwiczymy m.in. sprawność fizyczną\, integrację zmysłów (dotyk\, równowaga) oraz pewność siebie. \nNa zajęciach: \nPokazanie różnych form spędzania czasu z koniem\, nie tylko jazda\, a wspólne zabawy z grzbietu. \nĆwiczenie stabilnego dosiadu i pewności siebie \nZapoznanie z kucykami- Kryckiem i Królewną. \nJazda na kucyku\, opieka nad nim oraz zabawy z udziałem zwierząt pomagają w redukcji stresu\, lęków oraz zwiększają odporność emocjonalną.\n\n\n\n\nKiedy? – sobota 9.05.2026 \n Koszt: BEZPŁATNE \n\nGodzina? – 9:00-10:00 \nGdzie? – Stajnia „Kocimiętka”\, Jagodnia 18b\, 08-110 Jagodnia \n\nNa każde zajęcia dostępne są tylko dwa bilety\, dzieci będą na zmianę jeździć na kucyku pod okiem prowadzącej zajęcia. \n\nNa zajęcia koniecznie zabierzcie swój kask.  \nWAŻNE – WAGA dziecka nie może przekraczać 20 kg ze względu na zdrowie kucyków.\nJeżeli dziecko będzie cięższe\, to na zajęciach będzie miało ćwiczenia przy kucyku\, ale nie będzie na nim jeździć. Ostateczna decyzja należy do trenerki.\n  \n  \n\n\nProwadząca zajęcia: Patrycja Kot \nJestem felinoterapeutą i hipoterapeutą\, promuję wychowanie w otoczeniu natury i zwierząt. Jako mama dwójki dzieci i miłośnik zwierząt widzę ogromny wpływ ich obecności na zachowanie i rozwój małego człowieka. Podczas zajęć pokazuję niesamowite cechy tych zwierząt oraz ich wrażliwość na ludzi. \n\n  \n\nZAPISY !!!!\nPobierz bezpłatny bilet poniżej.\nNa maila dostaniesz potwierdzenie zapisu. Jeżeli potwierdzenie nie przyjdzie skontaktuj się z nami: kontakt@fundacjawzrastamy.org.pl\nTrzy dni przed wydarzeniem otrzymasz e-mail z prośbą o potwierdzenie obecności.\nPamiętaj\, że jeżeli z jakiejś przyczyny nie możesz pojawić się na wydarzeniu poinformuj nas o tym\, wysyłając e-mail na adres kontakt@fundacjawzrastamy.org.pl\n\n\n\n  \n\nW związku z bardzo dużym zainteresowaniem i ograniczoną ilością miejsc\, dane dziecko może być na zajęciach tylko raz.\nJeżeli chcesz\, by Twoje dziecko uczestniczyło w  zajęciach po raz kolejny\, obserwuj dostępność biletów na dwa dni przed wydarzeniem\, być może coś się zwolni po potwierdzeniu obecności.\n\n\n  \n\nWarsztaty dla dzieci w wieku 3-6 lat zamieszkałych w Mieście Siedlce\n\n\n\n\n💖 Projekt „Odporni na życie” jest dofinansowany ze środków Miasta Siedlce w zakresie zadania: Przeciwdziałanie uzależnieniom i patologiom społecznym. 💖
URL:https://fundacjawzrastamy.org.pl/wydarzenie/krolewskie-kucyki-zajecia-hipoterapii-dla-dzieci-3-6-lat-z-miasta-siedlce-905/
LOCATION:Stajnia „Kocimiętka”\, Jagodnia 18b\, Jagodnia\, mazowieckie\, 08-110\, Poland
CATEGORIES:Akademia emocji,Bezpłatne,Dzieci 4-6,Hipoterapia
ATTACH;FMTTYPE=image/jpeg:https://fundacjawzrastamy.org.pl/wp-content/uploads/2026/03/Odporni-na-zycie-UM-Siedlce-7-1.jpg
ORGANIZER;CN="Fundacja WZRASTAMY":MAILTO:kontakt@fundacjawzrastamy.org.pl
END:VEVENT
BEGIN:VEVENT
DTSTART;TZID=Europe/Warsaw:20260509T100000
DTEND;TZID=Europe/Warsaw:20260509T110000
DTSTAMP:20260423T001030
CREATED:20260412T075502Z
LAST-MODIFIED:20260412T075502Z
UID:6711-1778320800-1778324400@fundacjawzrastamy.org.pl
SUMMARY:Królewskie Kucyki – zajęcia hipoterapii dla dzieci 3-6 lat z Miasta Siedlce
DESCRIPTION:Zapraszamy dzieci w wieku 3-6 lat na zajęcia hipoterapii\n„KRÓLEWSKIE KUCYKI”\nCelem zajęć hipoterapii jest rozwijanie u dzieci empatii i wrażliwości do zwierząt oraz poczucia sprawczości. Dzieci w kontakcie i obejściu z koniem czują się pewne\, silniejsze i spokojniejsze. Wykorzystując obecność kucyków poćwiczymy m.in. sprawność fizyczną\, integrację zmysłów (dotyk\, równowaga) oraz pewność siebie. \nNa zajęciach: \nPokazanie różnych form spędzania czasu z koniem\, nie tylko jazda\, a wspólne zabawy z grzbietu. \nĆwiczenie stabilnego dosiadu i pewności siebie \nZapoznanie z kucykami- Kryckiem i Królewną. \nJazda na kucyku\, opieka nad nim oraz zabawy z udziałem zwierząt pomagają w redukcji stresu\, lęków oraz zwiększają odporność emocjonalną.\n\n\n\n\nKiedy? – sobota 9.05.2026 \n Koszt: BEZPŁATNE \n\nGodzina? – 10:00-11:00 \nGdzie? – Stajnia „Kocimiętka”\, Jagodnia 18b\, 08-110 Jagodnia \n\nNa każde zajęcia dostępne są tylko dwa bilety\, dzieci będą na zmianę jeździć na kucyku pod okiem prowadzącej zajęcia. \n\nNa zajęcia koniecznie zabierzcie swój kask.  \nWAŻNE – WAGA dziecka nie może przekraczać 20 kg ze względu na zdrowie kucyków.\nJeżeli dziecko będzie cięższe\, to na zajęciach będzie miało ćwiczenia przy kucyku\, ale nie będzie na nim jeździć. Ostateczna decyzja należy do trenerki.\n  \n  \n\n\nProwadząca zajęcia: Patrycja Kot \nJestem felinoterapeutą i hipoterapeutą\, promuję wychowanie w otoczeniu natury i zwierząt. Jako mama dwójki dzieci i miłośnik zwierząt widzę ogromny wpływ ich obecności na zachowanie i rozwój małego człowieka. Podczas zajęć pokazuję niesamowite cechy tych zwierząt oraz ich wrażliwość na ludzi. \n\n  \n\nZAPISY !!!!\nPobierz bezpłatny bilet poniżej.\nNa maila dostaniesz potwierdzenie zapisu. Jeżeli potwierdzenie nie przyjdzie skontaktuj się z nami: kontakt@fundacjawzrastamy.org.pl\nTrzy dni przed wydarzeniem otrzymasz e-mail z prośbą o potwierdzenie obecności.\nPamiętaj\, że jeżeli z jakiejś przyczyny nie możesz pojawić się na wydarzeniu poinformuj nas o tym\, wysyłając e-mail na adres kontakt@fundacjawzrastamy.org.pl\n\n\n\n  \n\nW związku z bardzo dużym zainteresowaniem i ograniczoną ilością miejsc\, dane dziecko może być na zajęciach tylko raz.\nJeżeli chcesz\, by Twoje dziecko uczestniczyło w  zajęciach po raz kolejny\, obserwuj dostępność biletów na dwa dni przed wydarzeniem\, być może coś się zwolni po potwierdzeniu obecności.\n\n\n  \n\nWarsztaty dla dzieci w wieku 3-6 lat zamieszkałych w Mieście Siedlce\n\n\n\n\n💖 Projekt „Odporni na życie” jest dofinansowany ze środków Miasta Siedlce w zakresie zadania: Przeciwdziałanie uzależnieniom i patologiom społecznym. 💖
URL:https://fundacjawzrastamy.org.pl/wydarzenie/krolewskie-kucyki-zajecia-hipoterapii-dla-dzieci-3-6-lat-z-miasta-siedlce-90510/
LOCATION:Stajnia „Kocimiętka”\, Jagodnia 18b\, Jagodnia\, mazowieckie\, 08-110\, Poland
CATEGORIES:Akademia emocji,Bezpłatne,Dzieci 4-6,Hipoterapia
ATTACH;FMTTYPE=image/jpeg:https://fundacjawzrastamy.org.pl/wp-content/uploads/2026/03/Odporni-na-zycie-UM-Siedlce-7-1.jpg
ORGANIZER;CN="Fundacja WZRASTAMY":MAILTO:kontakt@fundacjawzrastamy.org.pl
END:VEVENT
BEGIN:VEVENT
DTSTART;TZID=Europe/Warsaw:20260516T090000
DTEND;TZID=Europe/Warsaw:20260516T100000
DTSTAMP:20260423T001030
CREATED:20260412T073835Z
LAST-MODIFIED:20260412T073835Z
UID:6685-1778922000-1778925600@fundacjawzrastamy.org.pl
SUMMARY:Królewskie Kucyki – zajęcia hipoterapii dla dzieci 3-6 lat z Miasta Siedlce
DESCRIPTION:Zapraszamy dzieci w wieku 3-6 lat na zajęcia hipoterapii\n„KRÓLEWSKIE KUCYKI”\nCelem zajęć hipoterapii jest rozwijanie u dzieci empatii i wrażliwości do zwierząt oraz poczucia sprawczości. Dzieci w kontakcie i obejściu z koniem czują się pewne\, silniejsze i spokojniejsze. Wykorzystując obecność kucyków poćwiczymy m.in. sprawność fizyczną\, integrację zmysłów (dotyk\, równowaga) oraz pewność siebie. \nNa zajęciach: \nPokazanie różnych form spędzania czasu z koniem\, nie tylko jazda\, a wspólne zabawy z grzbietu. \nĆwiczenie stabilnego dosiadu i pewności siebie \nZapoznanie z kucykami- Kryckiem i Królewną. \nJazda na kucyku\, opieka nad nim oraz zabawy z udziałem zwierząt pomagają w redukcji stresu\, lęków oraz zwiększają odporność emocjonalną.\n\n\n\n\nKiedy? – sobota 16.05.2026 \n Koszt: BEZPŁATNE \n\nGodzina? – 9:00-10:00 \nGdzie? – Stajnia „Kocimiętka”\, Jagodnia 18b\, 08-110 Jagodnia \n\nNa każde zajęcia dostępne są tylko dwa bilety\, dzieci będą na zmianę jeździć na kucyku pod okiem prowadzącej zajęcia. \n\nNa zajęcia koniecznie zabierzcie swój kask.  \nWAŻNE – WAGA dziecka nie może przekraczać 20 kg ze względu na zdrowie kucyków.\nJeżeli dziecko będzie cięższe\, to na zajęciach będzie miało ćwiczenia przy kucyku\, ale nie będzie na nim jeździć. Ostateczna decyzja należy do trenerki.\n  \n  \n\n\nProwadząca zajęcia: Patrycja Kot \nJestem felinoterapeutą i hipoterapeutą\, promuję wychowanie w otoczeniu natury i zwierząt. Jako mama dwójki dzieci i miłośnik zwierząt widzę ogromny wpływ ich obecności na zachowanie i rozwój małego człowieka. Podczas zajęć pokazuję niesamowite cechy tych zwierząt oraz ich wrażliwość na ludzi. \n\n  \n\nZAPISY !!!!\nPobierz bezpłatny bilet poniżej.\nNa maila dostaniesz potwierdzenie zapisu. Jeżeli potwierdzenie nie przyjdzie skontaktuj się z nami: kontakt@fundacjawzrastamy.org.pl\nTrzy dni przed wydarzeniem otrzymasz e-mail z prośbą o potwierdzenie obecności.\nPamiętaj\, że jeżeli z jakiejś przyczyny nie możesz pojawić się na wydarzeniu poinformuj nas o tym\, wysyłając e-mail na adres kontakt@fundacjawzrastamy.org.pl\n\n\n\n  \n\nW związku z bardzo dużym zainteresowaniem i ograniczoną ilością miejsc\, dane dziecko może być na zajęciach tylko raz.\nJeżeli chcesz\, by Twoje dziecko uczestniczyło w  zajęciach po raz kolejny\, obserwuj dostępność biletów na dwa dni przed wydarzeniem\, być może coś się zwolni po potwierdzeniu obecności.\n\n\n  \n\nWarsztaty dla dzieci w wieku 3-6 lat zamieszkałych w Mieście Siedlce\n\n\n\n\n💖 Projekt „Odporni na życie” jest dofinansowany ze środków Miasta Siedlce w zakresie zadania: Przeciwdziałanie uzależnieniom i patologiom społecznym. 💖
URL:https://fundacjawzrastamy.org.pl/wydarzenie/krolewskie-kucyki-zajecia-hipoterapii-dla-dzieci-3-6-lat-z-miasta-siedlce-16059/
LOCATION:Stajnia „Kocimiętka”\, Jagodnia 18b\, Jagodnia\, mazowieckie\, 08-110\, Poland
CATEGORIES:Akademia emocji,Bezpłatne,Dzieci 4-6,Hipoterapia
ATTACH;FMTTYPE=image/jpeg:https://fundacjawzrastamy.org.pl/wp-content/uploads/2026/03/Odporni-na-zycie-UM-Siedlce-7-1.jpg
ORGANIZER;CN="Fundacja WZRASTAMY":MAILTO:kontakt@fundacjawzrastamy.org.pl
END:VEVENT
BEGIN:VEVENT
DTSTART;TZID=Europe/Warsaw:20260516T100000
DTEND;TZID=Europe/Warsaw:20260516T110000
DTSTAMP:20260423T001030
CREATED:20260412T075319Z
LAST-MODIFIED:20260412T075319Z
UID:6708-1778925600-1778929200@fundacjawzrastamy.org.pl
SUMMARY:Królewskie Kucyki – zajęcia hipoterapii dla dzieci 3-6 lat z Miasta Siedlce
DESCRIPTION:Zapraszamy dzieci w wieku 3-6 lat na zajęcia hipoterapii\n„KRÓLEWSKIE KUCYKI”\nCelem zajęć hipoterapii jest rozwijanie u dzieci empatii i wrażliwości do zwierząt oraz poczucia sprawczości. Dzieci w kontakcie i obejściu z koniem czują się pewne\, silniejsze i spokojniejsze. Wykorzystując obecność kucyków poćwiczymy m.in. sprawność fizyczną\, integrację zmysłów (dotyk\, równowaga) oraz pewność siebie. \nNa zajęciach: \nPokazanie różnych form spędzania czasu z koniem\, nie tylko jazda\, a wspólne zabawy z grzbietu. \nĆwiczenie stabilnego dosiadu i pewności siebie \nZapoznanie z kucykami- Kryckiem i Królewną. \nJazda na kucyku\, opieka nad nim oraz zabawy z udziałem zwierząt pomagają w redukcji stresu\, lęków oraz zwiększają odporność emocjonalną.\n\n\n\n\nKiedy? – sobota 16.05.2026 \n Koszt: BEZPŁATNE \n\nGodzina? – 10:00-11:00 \nGdzie? – Stajnia „Kocimiętka”\, Jagodnia 18b\, 08-110 Jagodnia \n\nNa każde zajęcia dostępne są tylko dwa bilety\, dzieci będą na zmianę jeździć na kucyku pod okiem prowadzącej zajęcia. \n\nNa zajęcia koniecznie zabierzcie swój kask.  \nWAŻNE – WAGA dziecka nie może przekraczać 20 kg ze względu na zdrowie kucyków.\nJeżeli dziecko będzie cięższe\, to na zajęciach będzie miało ćwiczenia przy kucyku\, ale nie będzie na nim jeździć. Ostateczna decyzja należy do trenerki.\n  \n  \n\n\nProwadząca zajęcia: Patrycja Kot \nJestem felinoterapeutą i hipoterapeutą\, promuję wychowanie w otoczeniu natury i zwierząt. Jako mama dwójki dzieci i miłośnik zwierząt widzę ogromny wpływ ich obecności na zachowanie i rozwój małego człowieka. Podczas zajęć pokazuję niesamowite cechy tych zwierząt oraz ich wrażliwość na ludzi. \n\n  \n\nZAPISY !!!!\nPobierz bezpłatny bilet poniżej.\nNa maila dostaniesz potwierdzenie zapisu. Jeżeli potwierdzenie nie przyjdzie skontaktuj się z nami: kontakt@fundacjawzrastamy.org.pl\nTrzy dni przed wydarzeniem otrzymasz e-mail z prośbą o potwierdzenie obecności.\nPamiętaj\, że jeżeli z jakiejś przyczyny nie możesz pojawić się na wydarzeniu poinformuj nas o tym\, wysyłając e-mail na adres kontakt@fundacjawzrastamy.org.pl\n\n\n\n  \n\nW związku z bardzo dużym zainteresowaniem i ograniczoną ilością miejsc\, dane dziecko może być na zajęciach tylko raz.\nJeżeli chcesz\, by Twoje dziecko uczestniczyło w  zajęciach po raz kolejny\, obserwuj dostępność biletów na dwa dni przed wydarzeniem\, być może coś się zwolni po potwierdzeniu obecności.\n\n\n  \n\nWarsztaty dla dzieci w wieku 3-6 lat zamieszkałych w Mieście Siedlce\n\n\n\n\n💖 Projekt „Odporni na życie” jest dofinansowany ze środków Miasta Siedlce w zakresie zadania: Przeciwdziałanie uzależnieniom i patologiom społecznym. 💖
URL:https://fundacjawzrastamy.org.pl/wydarzenie/krolewskie-kucyki-zajecia-hipoterapii-dla-dzieci-3-6-lat-z-miasta-siedlce-160510/
LOCATION:Stajnia „Kocimiętka”\, Jagodnia 18b\, Jagodnia\, mazowieckie\, 08-110\, Poland
CATEGORIES:Akademia emocji,Bezpłatne,Dzieci 4-6,Hipoterapia
ATTACH;FMTTYPE=image/jpeg:https://fundacjawzrastamy.org.pl/wp-content/uploads/2026/03/Odporni-na-zycie-UM-Siedlce-7-1.jpg
ORGANIZER;CN="Fundacja WZRASTAMY":MAILTO:kontakt@fundacjawzrastamy.org.pl
END:VEVENT
BEGIN:VEVENT
DTSTART;TZID=Europe/Warsaw:20260530T090000
DTEND;TZID=Europe/Warsaw:20260530T100000
DTSTAMP:20260423T001030
CREATED:20260412T074100Z
LAST-MODIFIED:20260412T074100Z
UID:6688-1780131600-1780135200@fundacjawzrastamy.org.pl
SUMMARY:Królewskie Kucyki – zajęcia hipoterapii dla dzieci 3-6 lat z Miasta Siedlce
DESCRIPTION:Zapraszamy dzieci w wieku 3-6 lat na zajęcia hipoterapii\n„KRÓLEWSKIE KUCYKI”\nCelem zajęć hipoterapii jest rozwijanie u dzieci empatii i wrażliwości do zwierząt oraz poczucia sprawczości. Dzieci w kontakcie i obejściu z koniem czują się pewne\, silniejsze i spokojniejsze. Wykorzystując obecność kucyków poćwiczymy m.in. sprawność fizyczną\, integrację zmysłów (dotyk\, równowaga) oraz pewność siebie. \nNa zajęciach: \nPokazanie różnych form spędzania czasu z koniem\, nie tylko jazda\, a wspólne zabawy z grzbietu. \nĆwiczenie stabilnego dosiadu i pewności siebie \nZapoznanie z kucykami- Kryckiem i Królewną. \nJazda na kucyku\, opieka nad nim oraz zabawy z udziałem zwierząt pomagają w redukcji stresu\, lęków oraz zwiększają odporność emocjonalną.\n\n\n\n\nKiedy? – sobota 30.05.2026 \n Koszt: BEZPŁATNE \n\nGodzina? – 9:00-10:00 \nGdzie? – Stajnia „Kocimiętka”\, Jagodnia 18b\, 08-110 Jagodnia \n\nNa każde zajęcia dostępne są tylko dwa bilety\, dzieci będą na zmianę jeździć na kucyku pod okiem prowadzącej zajęcia. \n\nNa zajęcia koniecznie zabierzcie swój kask.  \nWAŻNE – WAGA dziecka nie może przekraczać 20 kg ze względu na zdrowie kucyków.\nJeżeli dziecko będzie cięższe\, to na zajęciach będzie miało ćwiczenia przy kucyku\, ale nie będzie na nim jeździć. Ostateczna decyzja należy do trenerki.\n  \n  \n\n\nProwadząca zajęcia: Patrycja Kot \nJestem felinoterapeutą i hipoterapeutą\, promuję wychowanie w otoczeniu natury i zwierząt. Jako mama dwójki dzieci i miłośnik zwierząt widzę ogromny wpływ ich obecności na zachowanie i rozwój małego człowieka. Podczas zajęć pokazuję niesamowite cechy tych zwierząt oraz ich wrażliwość na ludzi. \n\n  \n\nZAPISY !!!!\nPobierz bezpłatny bilet poniżej.\nNa maila dostaniesz potwierdzenie zapisu. Jeżeli potwierdzenie nie przyjdzie skontaktuj się z nami: kontakt@fundacjawzrastamy.org.pl\nTrzy dni przed wydarzeniem otrzymasz e-mail z prośbą o potwierdzenie obecności.\nPamiętaj\, że jeżeli z jakiejś przyczyny nie możesz pojawić się na wydarzeniu poinformuj nas o tym\, wysyłając e-mail na adres kontakt@fundacjawzrastamy.org.pl\n\n\n\n  \n\nW związku z bardzo dużym zainteresowaniem i ograniczoną ilością miejsc\, dane dziecko może być na zajęciach tylko raz.\nJeżeli chcesz\, by Twoje dziecko uczestniczyło w  zajęciach po raz kolejny\, obserwuj dostępność biletów na dwa dni przed wydarzeniem\, być może coś się zwolni po potwierdzeniu obecności.\n\n\n  \n\nWarsztaty dla dzieci w wieku 3-6 lat zamieszkałych w Mieście Siedlce\n\n\n\n\n💖 Projekt „Odporni na życie” jest dofinansowany ze środków Miasta Siedlce w zakresie zadania: Przeciwdziałanie uzależnieniom i patologiom społecznym. 💖
URL:https://fundacjawzrastamy.org.pl/wydarzenie/krolewskie-kucyki-zajecia-hipoterapii-dla-dzieci-3-6-lat-z-miasta-siedlce-30059/
LOCATION:Stajnia „Kocimiętka”\, Jagodnia 18b\, Jagodnia\, mazowieckie\, 08-110\, Poland
CATEGORIES:Akademia emocji,Bezpłatne,Dzieci 4-6,Hipoterapia
ATTACH;FMTTYPE=image/jpeg:https://fundacjawzrastamy.org.pl/wp-content/uploads/2026/03/Odporni-na-zycie-UM-Siedlce-7-1.jpg
ORGANIZER;CN="Fundacja WZRASTAMY":MAILTO:kontakt@fundacjawzrastamy.org.pl
END:VEVENT
BEGIN:VEVENT
DTSTART;TZID=Europe/Warsaw:20260530T100000
DTEND;TZID=Europe/Warsaw:20260530T110000
DTSTAMP:20260423T001030
CREATED:20260412T075152Z
LAST-MODIFIED:20260412T075152Z
UID:6705-1780135200-1780138800@fundacjawzrastamy.org.pl
SUMMARY:Królewskie Kucyki – zajęcia hipoterapii dla dzieci 3-6 lat z Miasta Siedlce
DESCRIPTION:Zapraszamy dzieci w wieku 3-6 lat na zajęcia hipoterapii\n„KRÓLEWSKIE KUCYKI”\nCelem zajęć hipoterapii jest rozwijanie u dzieci empatii i wrażliwości do zwierząt oraz poczucia sprawczości. Dzieci w kontakcie i obejściu z koniem czują się pewne\, silniejsze i spokojniejsze. Wykorzystując obecność kucyków poćwiczymy m.in. sprawność fizyczną\, integrację zmysłów (dotyk\, równowaga) oraz pewność siebie. \nNa zajęciach: \nPokazanie różnych form spędzania czasu z koniem\, nie tylko jazda\, a wspólne zabawy z grzbietu. \nĆwiczenie stabilnego dosiadu i pewności siebie \nZapoznanie z kucykami- Kryckiem i Królewną. \nJazda na kucyku\, opieka nad nim oraz zabawy z udziałem zwierząt pomagają w redukcji stresu\, lęków oraz zwiększają odporność emocjonalną.\n\n\n\n\nKiedy? – sobota 30.05.2026 \n Koszt: BEZPŁATNE \n\nGodzina? – 10:00-11:00 \nGdzie? – Stajnia „Kocimiętka”\, Jagodnia 18b\, 08-110 Jagodnia \n\nNa każde zajęcia dostępne są tylko dwa bilety\, dzieci będą na zmianę jeździć na kucyku pod okiem prowadzącej zajęcia. \n\nNa zajęcia koniecznie zabierzcie swój kask.  \nWAŻNE – WAGA dziecka nie może przekraczać 20 kg ze względu na zdrowie kucyków.\nJeżeli dziecko będzie cięższe\, to na zajęciach będzie miało ćwiczenia przy kucyku\, ale nie będzie na nim jeździć. Ostateczna decyzja należy do trenerki.\n  \n  \n\n\nProwadząca zajęcia: Patrycja Kot \nJestem felinoterapeutą i hipoterapeutą\, promuję wychowanie w otoczeniu natury i zwierząt. Jako mama dwójki dzieci i miłośnik zwierząt widzę ogromny wpływ ich obecności na zachowanie i rozwój małego człowieka. Podczas zajęć pokazuję niesamowite cechy tych zwierząt oraz ich wrażliwość na ludzi. \n\n  \n\nZAPISY !!!!\nPobierz bezpłatny bilet poniżej.\nNa maila dostaniesz potwierdzenie zapisu. Jeżeli potwierdzenie nie przyjdzie skontaktuj się z nami: kontakt@fundacjawzrastamy.org.pl\nTrzy dni przed wydarzeniem otrzymasz e-mail z prośbą o potwierdzenie obecności.\nPamiętaj\, że jeżeli z jakiejś przyczyny nie możesz pojawić się na wydarzeniu poinformuj nas o tym\, wysyłając e-mail na adres kontakt@fundacjawzrastamy.org.pl\n\n\n\n  \n\nW związku z bardzo dużym zainteresowaniem i ograniczoną ilością miejsc\, dane dziecko może być na zajęciach tylko raz.\nJeżeli chcesz\, by Twoje dziecko uczestniczyło w  zajęciach po raz kolejny\, obserwuj dostępność biletów na dwa dni przed wydarzeniem\, być może coś się zwolni po potwierdzeniu obecności.\n\n\n  \n\nWarsztaty dla dzieci w wieku 3-6 lat zamieszkałych w Mieście Siedlce\n\n\n\n\n💖 Projekt „Odporni na życie” jest dofinansowany ze środków Miasta Siedlce w zakresie zadania: Przeciwdziałanie uzależnieniom i patologiom społecznym. 💖
URL:https://fundacjawzrastamy.org.pl/wydarzenie/krolewskie-kucyki-zajecia-hipoterapii-dla-dzieci-3-6-lat-z-miasta-siedlce-300510/
LOCATION:Stajnia „Kocimiętka”\, Jagodnia 18b\, Jagodnia\, mazowieckie\, 08-110\, Poland
CATEGORIES:Akademia emocji,Bezpłatne,Dzieci 4-6,Hipoterapia
ATTACH;FMTTYPE=image/jpeg:https://fundacjawzrastamy.org.pl/wp-content/uploads/2026/03/Odporni-na-zycie-UM-Siedlce-7-1.jpg
ORGANIZER;CN="Fundacja WZRASTAMY":MAILTO:kontakt@fundacjawzrastamy.org.pl
END:VEVENT
END:VCALENDAR