BEGIN:VCALENDAR
VERSION:2.0
PRODID:-//FUNDACJA WZRASTAMY - ECPv6.9.1//NONSGML v1.0//EN
CALSCALE:GREGORIAN
METHOD:PUBLISH
X-ORIGINAL-URL:https://fundacjawzrastamy.org.pl
X-WR-CALDESC:Wydarzenia dla FUNDACJA WZRASTAMY
REFRESH-INTERVAL;VALUE=DURATION:PT1H
X-Robots-Tag:noindex
X-PUBLISHED-TTL:PT1H
BEGIN:VTIMEZONE
TZID:Europe/Warsaw
BEGIN:DAYLIGHT
TZOFFSETFROM:+0100
TZOFFSETTO:+0200
TZNAME:CEST
DTSTART:20260329T010000
END:DAYLIGHT
BEGIN:STANDARD
TZOFFSETFROM:+0200
TZOFFSETTO:+0100
TZNAME:CET
DTSTART:20261025T010000
END:STANDARD
END:VTIMEZONE
BEGIN:VEVENT
DTSTART;TZID=Europe/Warsaw:20260206T181500
DTEND;TZID=Europe/Warsaw:20260206T191500
DTSTAMP:20260423T015142
CREATED:20260204T131856Z
LAST-MODIFIED:20260204T131856Z
UID:6325-1770401700-1770405300@fundacjawzrastamy.org.pl
SUMMARY:Relaksacyjna JOGA w Fundacji Wzrastamy
DESCRIPTION:🌸 ZAPRASZAMY NA RELAKSACYJNE ZAJĘCIA JOGI 🌸\nZatrzymaj się na chwilę. Odłóż codzienne obowiązki\, złap oddech i pozwól swojemu ciału oraz umysłowi odpocząć.Zapraszamy Cię na relaksacyjne zajęcia jogi\, które pomogą Ci wyciszyć się\, rozluźnić napięcia i na nowo poczuć harmonię. \nPodczas zajęć skupimy się na łagodnym ruchu\, prostych pozycjach i spokojnym oddechu.Nie potrzebujesz żadnego doświadczenia — wystarczy odrobina ciekawości i chęć zrobienia czegoś dobrego dla siebie. \nTo czas tylko dla Ciebie — czas\, by:✨ rozluźnić ciało po tygodniu pełnym obowiązków\,✨ uspokoić myśli i nabrać dystansu\,✨ poczuć lekkość\, równowagę i spokój. \n\n\n\n🧘‍♀️ Kiedy: 6 luty 2026 (piątek) o godz. 18:15\n🏡 Gdzie: WZRASTAMY Centrum rozwoju i wsparcia – ul. Piłsudskiego 9\, Siedlce\, DH Chester 1 piętro\n Opłata: 10 zł\n🎒 Co zabrać: matę do jogi i wygodny strój\n🎯 Gwarantujemy relaks w kameralnej grupie max. 6 osób.\nZajęcia są otwarte — zapraszamy wszystkich\, niezależnie od poziomu zaawansowania. \n\n  \n🌿 O prowadzącej\nAgnieszka 💚 – pasjonatka jogi\, która traktuje praktykę jako sposób na lepsze samopoczucie\, spokój głowy i kontakt z ciałem.Łączy relaksacyjne podejście z elementami stretchingu i pracy z oddechem\, a gdy przychodzi ochota – także bardziej energetycznym ruchem.Stale poszerza swoją wiedzę poprzez kursy i szkolenia\, aby zajęcia były angażujące i dopasowane do potrzeb uczestników. \nWięcej jej praktyki znajdziesz na Instagramie 👉 @agonzikk \n\n\n\nZAPISY \n🎯Rezerwacja miejsca odbywa się poprzez wpłatę 💸10 zł💸 on-line przez nasz Sklep. \n💸💸💸Dokonaj wpłaty on-line\n  \nNa maila dostaniesz potwierdzenie wpłaty i to jest Twój bilet. \n Pamiętaj\, że jeżeli z jakiejś przyczyny musisz zrezygnować z udziału w warsztatach\, poinformuj nas o tym\, wysyłając e-mail na adres kontakt@fundacjawzrastamy.org.pl .  \nJeżeli informację o nieobecności wyślesz z minimum 3 dniowym wyprzedzeniem\, zwrócimy Ci pieniądze\, w przeciwnym wypadku środki nie zostaną zwrócone. \n\n\n\n\nDo zobaczenia 💖
URL:https://fundacjawzrastamy.org.pl/wydarzenie/relaksacyjna-joga-w-fundacji-wzrastamy-0602/
LOCATION:WZRASTAMY – Centrum rozwoju i wsparcia\, Piłsudskiego 9\, Siedlce\, mazowieckie\, 08-110\, Poland
CATEGORIES:Joga,MAMY wsparcie,Płatne
ATTACH;FMTTYPE=image/png:https://fundacjawzrastamy.org.pl/wp-content/uploads/2026/02/WZRASTAJACY-Pilates-10.png
ORGANIZER;CN="Fundacja WZRASTAMY":MAILTO:kontakt@fundacjawzrastamy.org.pl
END:VEVENT
BEGIN:VEVENT
DTSTART;TZID=Europe/Warsaw:20260213T181500
DTEND;TZID=Europe/Warsaw:20260213T191500
DTSTAMP:20260423T015142
CREATED:20260210T083234Z
LAST-MODIFIED:20260210T083234Z
UID:6329-1771006500-1771010100@fundacjawzrastamy.org.pl
SUMMARY:Relaksacyjna JOGA w Fundacji Wzrastamy
DESCRIPTION:🌸 ZAPRASZAMY NA RELAKSACYJNE ZAJĘCIA JOGI 🌸\nZatrzymaj się na chwilę. Odłóż codzienne obowiązki\, złap oddech i pozwól swojemu ciału oraz umysłowi odpocząć.Zapraszamy Cię na relaksacyjne zajęcia jogi\, które pomogą Ci wyciszyć się\, rozluźnić napięcia i na nowo poczuć harmonię. \nPodczas zajęć skupimy się na łagodnym ruchu\, prostych pozycjach i spokojnym oddechu.Nie potrzebujesz żadnego doświadczenia — wystarczy odrobina ciekawości i chęć zrobienia czegoś dobrego dla siebie. \nTo czas tylko dla Ciebie — czas\, by:✨ rozluźnić ciało po tygodniu pełnym obowiązków\,✨ uspokoić myśli i nabrać dystansu\,✨ poczuć lekkość\, równowagę i spokój. \n\n\n\n🧘‍♀️ Kiedy: 13 luty 2026 (piątek) o godz. 18:15\n🏡 Gdzie: WZRASTAMY Centrum rozwoju i wsparcia – ul. Piłsudskiego 9\, Siedlce\, DH Chester 1 piętro\n Opłata: 10 zł\n🎒 Co zabrać: matę do jogi i wygodny strój\n🎯 Gwarantujemy relaks w kameralnej grupie max. 6 osób.\nZajęcia są otwarte — zapraszamy wszystkich\, niezależnie od poziomu zaawansowania. \n\n  \n🌿 O prowadzącej\nAgnieszka 💚 – pasjonatka jogi\, która traktuje praktykę jako sposób na lepsze samopoczucie\, spokój głowy i kontakt z ciałem.Łączy relaksacyjne podejście z elementami stretchingu i pracy z oddechem\, a gdy przychodzi ochota – także bardziej energetycznym ruchem.Stale poszerza swoją wiedzę poprzez kursy i szkolenia\, aby zajęcia były angażujące i dopasowane do potrzeb uczestników. \nWięcej jej praktyki znajdziesz na Instagramie 👉 @agonzikk \n\n\n\nZAPISY \n🎯Rezerwacja miejsca odbywa się poprzez wpłatę 💸10 zł💸 on-line przez nasz Sklep. \n💸💸💸Dokonaj wpłaty on-line\n  \nNa maila dostaniesz potwierdzenie wpłaty i to jest Twój bilet. \n Pamiętaj\, że jeżeli z jakiejś przyczyny musisz zrezygnować z udziału w warsztatach\, poinformuj nas o tym\, wysyłając e-mail na adres kontakt@fundacjawzrastamy.org.pl .  \nJeżeli informację o nieobecności wyślesz z minimum 3 dniowym wyprzedzeniem\, zwrócimy Ci pieniądze\, w przeciwnym wypadku środki nie zostaną zwrócone. \n\n\n\n\nDo zobaczenia 💖
URL:https://fundacjawzrastamy.org.pl/wydarzenie/relaksacyjna-joga-w-fundacji-wzrastamy-1302/
LOCATION:WZRASTAMY – Centrum rozwoju i wsparcia\, Piłsudskiego 9\, Siedlce\, mazowieckie\, 08-110\, Poland
CATEGORIES:Joga,MAMY wsparcie,Płatne
ATTACH;FMTTYPE=image/png:https://fundacjawzrastamy.org.pl/wp-content/uploads/2026/02/WZRASTAJACY-Pilates-2.png
ORGANIZER;CN="Fundacja WZRASTAMY":MAILTO:kontakt@fundacjawzrastamy.org.pl
END:VEVENT
BEGIN:VEVENT
DTSTART;TZID=Europe/Warsaw:20260220T181500
DTEND;TZID=Europe/Warsaw:20260220T191500
DTSTAMP:20260423T015142
CREATED:20260216T193251Z
LAST-MODIFIED:20260216T193251Z
UID:6352-1771611300-1771614900@fundacjawzrastamy.org.pl
SUMMARY:Relaksacyjna JOGA w Fundacji Wzrastamy
DESCRIPTION:🌸 ZAPRASZAMY NA RELAKSACYJNE ZAJĘCIA JOGI 🌸\nZatrzymaj się na chwilę. Odłóż codzienne obowiązki\, złap oddech i pozwól swojemu ciału oraz umysłowi odpocząć.Zapraszamy Cię na relaksacyjne zajęcia jogi\, które pomogą Ci wyciszyć się\, rozluźnić napięcia i na nowo poczuć harmonię. \nPodczas zajęć skupimy się na łagodnym ruchu\, prostych pozycjach i spokojnym oddechu.Nie potrzebujesz żadnego doświadczenia — wystarczy odrobina ciekawości i chęć zrobienia czegoś dobrego dla siebie. \nTo czas tylko dla Ciebie — czas\, by:✨ rozluźnić ciało po tygodniu pełnym obowiązków\,✨ uspokoić myśli i nabrać dystansu\,✨ poczuć lekkość\, równowagę i spokój. \n\n\n\n🧘‍♀️ Kiedy: 20 luty 2026 (piątek) o godz. 18:15\n🏡 Gdzie: WZRASTAMY Centrum rozwoju i wsparcia – ul. Piłsudskiego 9\, Siedlce\, DH Chester 1 piętro\n Opłata: 10 zł\n🎒 Co zabrać: matę do jogi i wygodny strój\n🎯 Gwarantujemy relaks w kameralnej grupie max. 6 osób.\nZajęcia są otwarte — zapraszamy wszystkich\, niezależnie od poziomu zaawansowania. \n\n  \n🌿 O prowadzącej\nAgnieszka 💚 – pasjonatka jogi\, która traktuje praktykę jako sposób na lepsze samopoczucie\, spokój głowy i kontakt z ciałem.Łączy relaksacyjne podejście z elementami stretchingu i pracy z oddechem\, a gdy przychodzi ochota – także bardziej energetycznym ruchem.Stale poszerza swoją wiedzę poprzez kursy i szkolenia\, aby zajęcia były angażujące i dopasowane do potrzeb uczestników. \nWięcej jej praktyki znajdziesz na Instagramie 👉 @agonzikk \n\n\n\nZAPISY \n🎯Rezerwacja miejsca odbywa się poprzez wpłatę 💸10 zł💸 on-line przez nasz Sklep. \n💸💸💸Dokonaj wpłaty on-line\n  \nNa maila dostaniesz potwierdzenie wpłaty i to jest Twój bilet. \n Pamiętaj\, że jeżeli z jakiejś przyczyny musisz zrezygnować z udziału w warsztatach\, poinformuj nas o tym\, wysyłając e-mail na adres kontakt@fundacjawzrastamy.org.pl .  \nJeżeli informację o nieobecności wyślesz z minimum 3 dniowym wyprzedzeniem\, zwrócimy Ci pieniądze\, w przeciwnym wypadku środki nie zostaną zwrócone. \n\n\n\n\nDo zobaczenia 💖
URL:https://fundacjawzrastamy.org.pl/wydarzenie/relaksacyjna-joga-w-fundacji-wzrastamy-2002/
LOCATION:WZRASTAMY – Centrum rozwoju i wsparcia\, Piłsudskiego 9\, Siedlce\, mazowieckie\, 08-110\, Poland
CATEGORIES:Joga,MAMY wsparcie,Płatne
ATTACH;FMTTYPE=image/png:https://fundacjawzrastamy.org.pl/wp-content/uploads/2026/02/WZRASTAJACY-Pilates-3.png
ORGANIZER;CN="Fundacja WZRASTAMY":MAILTO:kontakt@fundacjawzrastamy.org.pl
END:VEVENT
BEGIN:VEVENT
DTSTART;TZID=Europe/Warsaw:20260227T181500
DTEND;TZID=Europe/Warsaw:20260227T191500
DTSTAMP:20260423T015142
CREATED:20260225T073737Z
LAST-MODIFIED:20260225T073737Z
UID:6369-1772216100-1772219700@fundacjawzrastamy.org.pl
SUMMARY:Relaksacyjna JOGA w Fundacji Wzrastamy
DESCRIPTION:🌸 ZAPRASZAMY NA RELAKSACYJNE ZAJĘCIA JOGI 🌸\nZatrzymaj się na chwilę. Odłóż codzienne obowiązki\, złap oddech i pozwól swojemu ciału oraz umysłowi odpocząć.Zapraszamy Cię na relaksacyjne zajęcia jogi\, które pomogą Ci wyciszyć się\, rozluźnić napięcia i na nowo poczuć harmonię. \nPodczas zajęć skupimy się na łagodnym ruchu\, prostych pozycjach i spokojnym oddechu.Nie potrzebujesz żadnego doświadczenia — wystarczy odrobina ciekawości i chęć zrobienia czegoś dobrego dla siebie. \nTo czas tylko dla Ciebie — czas\, by:✨ rozluźnić ciało po tygodniu pełnym obowiązków\,✨ uspokoić myśli i nabrać dystansu\,✨ poczuć lekkość\, równowagę i spokój. \n\n\n\n🧘‍♀️ Kiedy: 27 luty 2026 (piątek) o godz. 18:15\n🏡 Gdzie: WZRASTAMY Centrum rozwoju i wsparcia – ul. Piłsudskiego 9\, Siedlce\, DH Chester 1 piętro\n Opłata: 10 zł\n🎒 Co zabrać: matę do jogi i wygodny strój\n🎯 Gwarantujemy relaks w kameralnej grupie max. 6 osób.\nZajęcia są otwarte — zapraszamy wszystkich\, niezależnie od poziomu zaawansowania. \n\n  \n🌿 O prowadzącej\nAgnieszka 💚 – pasjonatka jogi\, która traktuje praktykę jako sposób na lepsze samopoczucie\, spokój głowy i kontakt z ciałem.Łączy relaksacyjne podejście z elementami stretchingu i pracy z oddechem\, a gdy przychodzi ochota – także bardziej energetycznym ruchem.Stale poszerza swoją wiedzę poprzez kursy i szkolenia\, aby zajęcia były angażujące i dopasowane do potrzeb uczestników. \nWięcej jej praktyki znajdziesz na Instagramie 👉 @agonzikk \n\n\n\nZAPISY \n🎯Rezerwacja miejsca odbywa się poprzez wpłatę 💸10 zł💸 on-line przez nasz Sklep. \n💸💸💸Dokonaj wpłaty on-line\n  \nNa maila dostaniesz potwierdzenie wpłaty i to jest Twój bilet. \n Pamiętaj\, że jeżeli z jakiejś przyczyny musisz zrezygnować z udziału w warsztatach\, poinformuj nas o tym\, wysyłając e-mail na adres kontakt@fundacjawzrastamy.org.pl .  \nJeżeli informację o nieobecności wyślesz z minimum 3 dniowym wyprzedzeniem\, zwrócimy Ci pieniądze\, w przeciwnym wypadku środki nie zostaną zwrócone. \n\n\n\n\nDo zobaczenia 💖
URL:https://fundacjawzrastamy.org.pl/wydarzenie/relaksacyjna-joga-w-fundacji-wzrastamy-2702/
LOCATION:WZRASTAMY – Centrum rozwoju i wsparcia\, Piłsudskiego 9\, Siedlce\, mazowieckie\, 08-110\, Poland
CATEGORIES:Joga,MAMY wsparcie,Płatne
ATTACH;FMTTYPE=image/png:https://fundacjawzrastamy.org.pl/wp-content/uploads/2026/02/WZRASTAJACY-Pilates-4.png
ORGANIZER;CN="Fundacja WZRASTAMY":MAILTO:kontakt@fundacjawzrastamy.org.pl
END:VEVENT
END:VCALENDAR