BEGIN:VCALENDAR
VERSION:2.0
PRODID:-//FUNDACJA WZRASTAMY - ECPv6.9.1//NONSGML v1.0//EN
CALSCALE:GREGORIAN
METHOD:PUBLISH
X-WR-CALNAME:FUNDACJA WZRASTAMY
X-ORIGINAL-URL:https://fundacjawzrastamy.org.pl
X-WR-CALDESC:Wydarzenia dla FUNDACJA WZRASTAMY
REFRESH-INTERVAL;VALUE=DURATION:PT1H
X-Robots-Tag:noindex
X-PUBLISHED-TTL:PT1H
BEGIN:VTIMEZONE
TZID:Europe/Warsaw
BEGIN:DAYLIGHT
TZOFFSETFROM:+0100
TZOFFSETTO:+0200
TZNAME:CEST
DTSTART:20260329T010000
END:DAYLIGHT
BEGIN:STANDARD
TZOFFSETFROM:+0200
TZOFFSETTO:+0100
TZNAME:CET
DTSTART:20261025T010000
END:STANDARD
END:VTIMEZONE
BEGIN:VEVENT
DTSTART;TZID=Europe/Warsaw:20260414T170000
DTEND;TZID=Europe/Warsaw:20260414T200000
DTSTAMP:20260423T000109
CREATED:20260317T133608Z
LAST-MODIFIED:20260320T075403Z
UID:6525-1776186000-1776196800@fundacjawzrastamy.org.pl
SUMMARY:💪 Rodzicielskie SUPERmoce 👨‍👩‍👧‍👦 – warsztaty dla rodziców z Miasta Siedlce
DESCRIPTION:🦸‍♀️ Rodzicielskie SUPERmoce 👨‍👩‍👧‍👦Szkoła dla Rodziców i Wychowawców – cz. I „Relacje i dialog” \nZapraszamy rodziców na wyjątkowy cykl warsztatów\, który pomoże odkryć i wzmocnić Twoje rodzicielskie SUPERmoce – cierpliwość\, uważność\, mądrą komunikację i budowanie bliskiej relacji z dzieckiem. 💛 \nTo 10 spotkań warsztatowych\, podczas których w bezpiecznej\, wspierającej atmosferze będziemy wspólnie przyglądać się codziennym wyzwaniom wychowawczym i szukać skutecznych sposobów budowania relacji z dzieckiem. \nProgram „Szkoła dla Rodziców i Wychowawców” jest rekomendowanym programem profilaktycznym wspierającym dorosłych w radzeniu sobie w codziennych kontaktach z dziećmi oraz w rozwijaniu umiejętności dobrej komunikacji\, refleksji nad własną postawą wychowawczą i budowania relacji opartych na szacunku i dialogu. \nPodczas warsztatów:💬 nauczysz się lepiej rozumieć emocje swoje i dziecka\,👂 poznasz zasady aktywnego słuchania i dialogu\,🧭 dowiesz się\, jak stawiać jasne granice i wymagania\,🤝 nauczysz się zachęcać dziecko do współpracy zamiast walki\,💡 poznasz sposoby rozwiązywania konfliktów i trudnych sytuacji\,🌱 dowiesz się\, jak wzmacniać poczucie własnej wartości dziecka i wspierać jego samodzielność. \nWarsztaty mają charakter praktyczny i warsztatowy – oprócz wiedzy będzie przestrzeń na ćwiczenia\, wymianę doświadczeń i refleksję nad własnym stylem wychowania. \nPodczas 10 cotygodniowych spotkań rodzice rozwijają umiejętności budowania dobrej relacji z dzieckiem\, uczą się okazywania szacunku dla jego uczuć i potrzeb\, a jednocześnie stawiania granic i zasad ważnych w rodzinie. \n✨ To nie jest wykład.To praktyczna szkoła relacji z dzieckiem. \nBo wychowywać to kochać i wymagać. 💛 \nLiczba miejsc ograniczona – zapisz się już dziś! \n\nZajęcia będą odbywały się co tydzień we wtorki w godzinach 17:00-20:00 w grupie max. 16-osobowej. \nTerminy spotkań: 2026 🎯kwiecień 14\, 21\,28 🎯maj 5\, 12\, 19\, 26 🎯czerwiec 2\, 9\, 16 \nGdzie? – WZRASTAMY – Centrum rozwoju i wsparcia\, ul. Piłsudskiego 9\, Siedlce\, DH Chester I piętro \n\n  \n\n👨‍👩‍👧‍👦 Warsztaty skierowane są do rodziców i opiekunów dzieci\, którzy chcą rozwijać swoje kompetencje wychowawcze i budować bliższą relację z dzieckiem. \nWarsztaty są bezpłatne💸 \nWarsztaty dla Mieszkańców Miasta Siedlce. \n\n  \nProwadzące zajęcia: Iza Majewska i Joanna Fido \nPedagożki\, trenerki programów rekomendowanych dla dzieci\, młodzieży i rodziców w tym programu „Szkoła dla rodziców i wychowawców”\, mamy dorosłych synów\, które na bazie wiedzy i własnych doświadczeń wspierają dzieci i rodziców w budowaniu dobrostanu psychicznego i relacji rodzinnych. \n  \n\nZAPISY !!!!\nPobierz bezpłatny bilet poniżej.\nNa maila dostaniesz potwierdzenie zapisu. Jeżeli potwierdzenie nie przyjdzie skontaktuj się z nami: kontakt@fundacjawzrastamy.org.pl\nTydzień przed wydarzeniem otrzymasz e-mail z prośbą o potwierdzenie obecności.\nPamiętaj\, że jeżeli z jakiejś przyczyny nie możesz pojawić się na wydarzeniu poinformuj nas o tym\, wysyłając e-mail na adres kontakt@fundacjawzrastamy.org.pl\n\n  \n💖 Projekt „Odporni na życie” jest dofinansowany ze środków Miasta Siedlce w zakresie zadania: Przeciwdziałanie uzależnieniom i patologiom społecznym. 💖
URL:https://fundacjawzrastamy.org.pl/wydarzenie/rodzicielskie-supermoce-warsztaty-dla-rodzicow-z-miasta-siedlce/
LOCATION:WZRASTAMY – Centrum rozwoju i wsparcia\, Piłsudskiego 9\, Siedlce\, mazowieckie\, 08-110\, Poland
CATEGORIES:Akademia emocji,Bezpłatne,Warsztaty dla Rodziców
ATTACH;FMTTYPE=image/jpeg:https://fundacjawzrastamy.org.pl/wp-content/uploads/2026/03/Odporni-na-zycie-UM-Siedlce-5.jpg
ORGANIZER;CN="Fundacja WZRASTAMY":MAILTO:kontakt@fundacjawzrastamy.org.pl
END:VEVENT
END:VCALENDAR