BEGIN:VCALENDAR
VERSION:2.0
PRODID:-//FUNDACJA WZRASTAMY - ECPv6.9.1//NONSGML v1.0//EN
CALSCALE:GREGORIAN
METHOD:PUBLISH
X-ORIGINAL-URL:https://fundacjawzrastamy.org.pl
X-WR-CALDESC:Wydarzenia dla FUNDACJA WZRASTAMY
REFRESH-INTERVAL;VALUE=DURATION:PT1H
X-Robots-Tag:noindex
X-PUBLISHED-TTL:PT1H
BEGIN:VTIMEZONE
TZID:Europe/Warsaw
BEGIN:DAYLIGHT
TZOFFSETFROM:+0100
TZOFFSETTO:+0200
TZNAME:CEST
DTSTART:20260329T010000
END:DAYLIGHT
BEGIN:STANDARD
TZOFFSETFROM:+0200
TZOFFSETTO:+0100
TZNAME:CET
DTSTART:20261025T010000
END:STANDARD
END:VTIMEZONE
BEGIN:VEVENT
DTSTART;TZID=Europe/Warsaw:20260408T100000
DTEND;TZID=Europe/Warsaw:20260408T113000
DTSTAMP:20260423T002259
CREATED:20260310T083150Z
LAST-MODIFIED:20260310T083150Z
UID:6471-1775642400-1775647800@fundacjawzrastamy.org.pl
SUMMARY:Radocha malucha - zajęcia kreatywno-sensoryczne dla mam i dzieci w wieku 6 m-cy do 3 lat z Miasta Siedlce
DESCRIPTION:RADOCHA MALUCHA – zajęcia kreatywno-sensoryczne dla mam i dzieci w wieku 6 m-cy do 3 lat z Miasta Siedlce👶🧒👶\nSerdecznie zapraszamy wszystkie chętne Mamy z Siedlec z najmłodszymi dziećmi w wieku od 6 miesiaca do 3 roku\, na zajęcia ogólnorozwojowe. Nasze zajęcia dla najmłodszych zostały zaprojektowane z myślą o wszechstronnym rozwoju dzieci w wieku od 0 do 3 lat. Skupiamy się na tym\, aby poprzez zabawę i interaktywne aktywności wspierać rozwój ruchowy\, sensoryczny\, poznawczy i społeczny maluszków. Gwarantujemy super zabawę w towarzystwie rówieśników. To świetny moment na oswojenie dziecka z grupą rówieśniczą przed podjęciem nauki w żłobku czy przedszkolu. \nDzięki spotkaniom również Mamy będą miały okazję podzielić się swoim doświadczeniem z innymi Mamusiami. \nGwarantujemy super zabawę w towarzystwie rówieśników. \n  \nW programie: \n🎶 zajęcia muzyczno -ruchowe \n🙌 tor przeszkód  \n🤹‍♀stworzymy wspólnie wiosenną butelkę sensoryczną dla każdego dziecka \n🗨️pogaduszki mam \n😋wspólny piknik \nP.S. będzie nam bardzo miło jeśli przyniesiesz co nieco na piknik. \n  \n  \nSpotkanie odbędzie się w ramach Klubu dla kobiet „MAMY wsparcie” 💕 Dołącz do nas: https://www.facebook.com/groups/klub.mamy.wsparcie\n\n  \nWarsztaty poprowadzi Magdalena Zalewska.\nMama dwójki wspaniałych dzieci 👶🧒\nZawodowo nauczyciel wychowania przedszkolnego\, terapeuta ręki\, trener zajęć marki Sensoplastyka(R) \n  \n  \n\nKiedy? – środa 8.04.2026\nGodzina? – 10:00-11.30\n Koszt: 20 zł (jest to tylko część rzeczywistego kosztu\, pozostałą część pokrywamy z dotacji Urzędu Miasta Siedlce)\n\nGdzie? – WZRASTAMY – Centrum rozwoju i wsparcia\, ul. Piłsudskiego 9\, Siedlce\, DH Chester I piętro\n\n\n_____________________________________________________________\n\n\n\nZAPISY !!!!  \nRezerwacja miejsca odbywa się poprzez wpłatę 💸20 zł💸 on-line przez nasz Sklep.\nNa maila dostaniesz potwierdzenie wpłaty i to jest Twój bilet.\nPamiętaj\, że jeżeli z jakiejś przyczyny musisz zrezygnować z udziału w warsztatach\, poinformuj nas o tym\, wysyłając e-mail na adres kontakt@fundacjawzrastamy.org.pl\n\n\n_________________________________________________________\n\n\n\n\n\n💖 Projekt „Odporni na życie” jest dofinansowany ze środków Miasta Siedlce w zakresie zadania: Przeciwdziałanie uzależnieniom i patologiom społecznym. 💖
URL:https://fundacjawzrastamy.org.pl/wydarzenie/radocha-malucha-zajecia-kreatywno-sensoryczne-dla-mam-i-dzieci-w-wieku-6-m-cy-do-3-lat-z-miasta-siedlce-804/
LOCATION:WZRASTAMY – Centrum rozwoju i wsparcia\, Piłsudskiego 9\, Siedlce\, mazowieckie\, 08-110\, Poland
CATEGORIES:Akademia emocji,Dzieci 0-3,MAMY wsparcie,Płatne
ATTACH;FMTTYPE=image/jpeg:https://fundacjawzrastamy.org.pl/wp-content/uploads/2026/03/Odporni-na-zycie-UM-Siedlce-1-1.jpg
ORGANIZER;CN="Fundacja WZRASTAMY":MAILTO:kontakt@fundacjawzrastamy.org.pl
END:VEVENT
END:VCALENDAR