BEGIN:VCALENDAR
VERSION:2.0
PRODID:-//FUNDACJA WZRASTAMY - ECPv6.9.1//NONSGML v1.0//EN
CALSCALE:GREGORIAN
METHOD:PUBLISH
X-WR-CALNAME:FUNDACJA WZRASTAMY
X-ORIGINAL-URL:https://fundacjawzrastamy.org.pl
X-WR-CALDESC:Wydarzenia dla FUNDACJA WZRASTAMY
REFRESH-INTERVAL;VALUE=DURATION:PT1H
X-Robots-Tag:noindex
X-PUBLISHED-TTL:PT1H
BEGIN:VTIMEZONE
TZID:Europe/Warsaw
BEGIN:DAYLIGHT
TZOFFSETFROM:+0100
TZOFFSETTO:+0200
TZNAME:CEST
DTSTART:20260329T010000
END:DAYLIGHT
BEGIN:STANDARD
TZOFFSETFROM:+0200
TZOFFSETTO:+0100
TZNAME:CET
DTSTART:20261025T010000
END:STANDARD
END:VTIMEZONE
BEGIN:VEVENT
DTSTART;TZID=Europe/Warsaw:20260326T100000
DTEND;TZID=Europe/Warsaw:20260326T113000
DTSTAMP:20260423T014408
CREATED:20260310T082355Z
LAST-MODIFIED:20260310T082421Z
UID:6468-1774519200-1774524600@fundacjawzrastamy.org.pl
SUMMARY:Radocha malucha - zajęcia kreatywno-sensoryczne dla mam i dzieci w wieku 6 m-cy do 3 lat z Miasta Siedlce
DESCRIPTION:RADOCHA MALUCHA – zajęcia kreatywno-sensoryczne dla mam i dzieci w wieku 6 m-cy do 3 lat z Miasta Siedlce👶🧒👶\nSerdecznie zapraszamy wszystkie chętne Mamy z Siedlec z najmłodszymi dziećmi w wieku od 6 miesiaca do 3 roku\, na zajęcia ogólnorozwojowe. Nasze zajęcia dla najmłodszych zostały zaprojektowane z myślą o wszechstronnym rozwoju dzieci w wieku od 0 do 3 lat. Skupiamy się na tym\, aby poprzez zabawę i interaktywne aktywności wspierać rozwój ruchowy\, sensoryczny\, poznawczy i społeczny maluszków. Gwarantujemy super zabawę w towarzystwie rówieśników. To świetny moment na oswojenie dziecka z grupą rówieśniczą przed podjęciem nauki w żłobku czy przedszkolu. \nDzięki spotkaniom również Mamy będą miały okazję podzielić się swoim doświadczeniem z innymi Mamusiami. \nGwarantujemy super zabawę w towarzystwie rówieśników. \n  \nW programie: \n🎶 zajęcia muzyczno -ruchowe \n🙌 tor przeszkód  \n🤹‍♀malowanie paluszkami\, stworzymy świąteczną dekorację na płótnie dla każdego dziecka  \n🗨️pogaduszki mam \n😋wspólny piknik \nP.S. będzie nam bardzo miło jeśli przyniesiesz co nieco na piknik. \n!!!!W tym dniu warto zabrać ze sobą mokre chusteczki\, ubranie na zmianę.!!!! \n  \nSpotkanie odbędzie się w ramach Klubu dla kobiet „MAMY wsparcie” 💕 Dołącz do nas: https://www.facebook.com/groups/klub.mamy.wsparcie\n\n  \nWarsztaty poprowadzi Magdalena Zalewska.\nMama dwójki wspaniałych dzieci 👶🧒\nZawodowo nauczyciel wychowania przedszkolnego\, terapeuta ręki\, trener zajęć marki Sensoplastyka(R) \n  \n  \n\nKiedy? – czwartek 26.03.2026\nGodzina? – 10:00-11.30\n Koszt: 20 zł (jest to tylko część rzeczywistego kosztu\, pozostałą część pokrywamy z dotacji Urzędu Miasta Siedlce)\n\nGdzie? – WZRASTAMY – Centrum rozwoju i wsparcia\, ul. Piłsudskiego 9\, Siedlce\, DH Chester I piętro\n\n\n_____________________________________________________________\n\n\n\nZAPISY !!!!  \nRezerwacja miejsca odbywa się poprzez wpłatę 💸20 zł💸 on-line przez nasz Sklep.\nNa maila dostaniesz potwierdzenie wpłaty i to jest Twój bilet.\nPamiętaj\, że jeżeli z jakiejś przyczyny musisz zrezygnować z udziału w warsztatach\, poinformuj nas o tym\, wysyłając e-mail na adres kontakt@fundacjawzrastamy.org.pl\n\n\n_________________________________________________________\n\n\n\n\n\n💖 Projekt „Odporni na życie” jest dofinansowany ze środków Miasta Siedlce w zakresie zadania: Przeciwdziałanie uzależnieniom i patologiom społecznym. 💖
URL:https://fundacjawzrastamy.org.pl/wydarzenie/radocha-malucha-zajecia-kreatywno-sensoryczne-dla-mam-i-dzieci-w-wieku-6-m-cy-do-3-lat-z-miasta-siedlce-2603/
LOCATION:WZRASTAMY – Centrum rozwoju i wsparcia\, Piłsudskiego 9\, Siedlce\, mazowieckie\, 08-110\, Poland
CATEGORIES:Akademia emocji,Dzieci 0-3,MAMY wsparcie,Płatne
ATTACH;FMTTYPE=image/jpeg:https://fundacjawzrastamy.org.pl/wp-content/uploads/2026/03/Odporni-na-zycie-UM-Siedlce.jpg
ORGANIZER;CN="Fundacja WZRASTAMY":MAILTO:kontakt@fundacjawzrastamy.org.pl
END:VEVENT
BEGIN:VEVENT
DTSTART;TZID=Europe/Warsaw:20260326T173000
DTEND;TZID=Europe/Warsaw:20260326T190000
DTSTAMP:20260423T014408
CREATED:20260316T155742Z
LAST-MODIFIED:20260316T155742Z
UID:6502-1774546200-1774551600@fundacjawzrastamy.org.pl
SUMMARY:🐣 Wielkanocne Wianki 🌿 – warsztaty relaksacyjno-kreatywne dla kobiet z Miasta Siedlce
DESCRIPTION:Zapraszamy wszystkie Panie z Miasta Siedlce na wyjątkowe\, wiosenne warsztaty pełne radości\, zieleni i twórczej atmosfery! 🌸 \nPodczas spotkania każda uczestniczka stworzy własnoręcznie piękny wielkanocny wianek – dekorację\, która ozdobi drzwi lub dom i wprowadzi do wnętrza świeżość wiosny oraz świąteczny klimat. 🌿🐰 \nPodczas warsztatów:🌿 nauczysz się\, jak tworzyć dekoracyjne wianki krok po kroku\,🌸 poznasz sposoby komponowania kwiatów\, zieleni i wielkanocnych dodatków\,🎀 nauczysz się łączyć kolory\, faktury i wstążki w harmonijną kompozycję\,🐣 stworzysz własny\, niepowtarzalny wianek wielkanocny\,🎁 zabierzesz do domu dekorację\, która będzie piękną ozdobą na Święta. \nTo będzie czas relaksu\, rozmów i kobiecej energii przy wspólnym tworzeniu – idealna chwila\, aby zwolnić tempo i poczuć wiosenną i wielkanocną atmosferę. 🌷✨ \n👩‍🎨 Warsztaty poprowadzi Emilia Głuchowska – twórczyni marki EmiDecor\, która z pasją dzieli się miłością do rękodzieła i inspiruje kobiety do twórczego działania. \nNiech to spotkanie stanie się pięknym\, wiosennym momentem tylko dla Ciebie — pełnym zieleni\, kwiatów i radości tworzenia! 🌿🐣💛 \nLiczba miejsc ograniczona – zapisz się już dziś! \n\n📅 Kiedy? – czwartek 26.03.2026 \n⏰ Godzina? – 17:30–19:00 \n💸 Koszt: 25 zł (warsztaty częściowo dofinansowane z Urzędu Miasta Siedlce) \n📍 Gdzie? – WZRASTAMY – Centrum Rozwoju i Wsparcia\, ul. Piłsudskiego 9\, Siedlce\, DH Chester I piętro \nSpotkanie odbędzie się w ramach Klubu dla kobiet „MAMY wsparcie” 💕Dołącz do nas: https://www.facebook.com/groups/klub.mamy.wsparcie \n\n\n✅ ZAPISY !!!!Rezerwacja miejsca odbywa się poprzez wpłatę 💸25 zł💸 on-line przez nasz Sklep.📧 Na maila dostaniesz potwierdzenie wpłaty i to jest Twój bilet. \n❌ Pamiętaj\, że jeżeli z jakiejś przyczyny musisz zrezygnować z udziału w warsztatach\, poinformuj nas o tym do trzech dni przed wydarzeniem\, wysyłając e-mail na adres kontakt@fundacjawzrastamy.org.pl\, a zwrócimy Ci pieniadze. \n\n💖 Projekt „Odporni na życie” jest dofinansowany ze środków Miasta Siedlce w zakresie zadania: Przeciwdziałanie uzależnieniom i patologiom społecznym. 💖
URL:https://fundacjawzrastamy.org.pl/wydarzenie/%f0%9f%90%a3-wielkanocne-wianki-%f0%9f%8c%bf-warsztaty-kreatywne-dla-kobiet-z-miasta-siedlce/
LOCATION:WZRASTAMY – Centrum rozwoju i wsparcia\, Piłsudskiego 9\, Siedlce\, mazowieckie\, 08-110\, Poland
CATEGORIES:MAMY wsparcie,Płatne
ATTACH;FMTTYPE=image/jpeg:https://fundacjawzrastamy.org.pl/wp-content/uploads/2026/03/Odporni-na-zycie-UM-Siedlce-6.jpg
ORGANIZER;CN="Fundacja WZRASTAMY":MAILTO:kontakt@fundacjawzrastamy.org.pl
END:VEVENT
END:VCALENDAR