BEGIN:VCALENDAR
VERSION:2.0
PRODID:-//FUNDACJA WZRASTAMY - ECPv6.9.1//NONSGML v1.0//EN
CALSCALE:GREGORIAN
METHOD:PUBLISH
X-ORIGINAL-URL:https://fundacjawzrastamy.org.pl
X-WR-CALDESC:Wydarzenia dla FUNDACJA WZRASTAMY
REFRESH-INTERVAL;VALUE=DURATION:PT1H
X-Robots-Tag:noindex
X-PUBLISHED-TTL:PT1H
BEGIN:VTIMEZONE
TZID:Europe/Warsaw
BEGIN:DAYLIGHT
TZOFFSETFROM:+0100
TZOFFSETTO:+0200
TZNAME:CEST
DTSTART:20250330T010000
END:DAYLIGHT
BEGIN:STANDARD
TZOFFSETFROM:+0200
TZOFFSETTO:+0100
TZNAME:CET
DTSTART:20251026T010000
END:STANDARD
END:VTIMEZONE
BEGIN:VEVENT
DTSTART;TZID=Europe/Warsaw:20251024T170000
DTEND;TZID=Europe/Warsaw:20251024T180000
DTSTAMP:20260425T144448
CREATED:20251017T064732Z
LAST-MODIFIED:20251017T064846Z
UID:5570-1761325200-1761328800@fundacjawzrastamy.org.pl
SUMMARY:Bajkowy świat emocji - warsztaty bajkoterapii dla dzieci w wieku 6-9 lat z województwa mazowieckiego
DESCRIPTION:📜 Zapraszamy dzieci w wieku 6-9 lat na zajęcia bajkoterapii „Bajkowy świat emocji”\n🌟 Czekają nas niezapomniane przygody z bohaterami bajek\, kreatywne zabawy i rozwijanie emocji!To czas wspólnego wzrastania\, zabawy i rozwoju w bezpiecznej i przyjaznej atmosferze. \nW programie m.in.: \n📚magiczne opowieści i bajkowe podróże\, \n📚twórcze zabawy i prace plastyczne\, \n📚rozwijanie kompetencji emocjonalnych i społecznych\, \n📚budowanie pewności siebie i wiary w swoje możliwości. \n  \nWarsztaty to cykl 5 cotygodniowych spotkań w piątki – zaczynamy już 24.10.2025 godz. 17:00 \nW każdym tygodniu za pomocą bajek będziemy omawiać jedną z 5 emocji: 🌟ZŁOŚĆ🌟RADOŚĆ🌟SMUTEK🌟STRACH🌟ZAUFANIE🌟 \n  \nBajkoterapia polega na wykorzystywaniu specjalnie wyselekcjonowanych bajek i baśni w celach terapeutycznych\, edukacyjnych i relaksacyjnych.\nCelem jest uspokojenie\, zredukowanie problemów emocjonalnych oraz wspieranie dzieci w trudnych sytuacjach.\nZajęcia połączone z warsztatami uczą również wartości moralnych\, pomagają poradzić sobie z nieśmiałością\, a także różnymi rodzajami lęku (przed ciemnością\, dentystą\, nowymi wyzwaniami).\nDodatkowo zwiększają poczucie własnej wartości oraz rozwijają kreatywność. \n  \nKiedy? – cykl 5 cotygodniowych spotkań w terminie od 24 października do 21 listopada (piątki) \nGodzina? – 17:00-18:00 \n Koszt: BEZPŁATNE \n\nGdzie? – WZRASTAMY – Centrum rozwoju i wsparcia\, ul. Piłsudskiego 9\, Siedlce\, DH Chester I piętro \n\n\n\nProwadząca spotkanie: Irmina Rosa \n\nStudentka Pedagogiki Przedszkolnej i Wczesnoszkolnej\, Instruktor zajęć dodatkowych w przedszkolu oraz Koordynator Regionalny Akademii Przyszłości. Pasjonatka odkrywania tajemnic ludzkich umysłów\, a szczególnie tych dziecięcych.\nMiłośniczka szeroko pojętego rozwoju. Nie lubi stać w miejscu więc stałe dąży do rozwijania swoich mocnych stron.\nPrywatnie wielka fanka psychologii\, medycyny i literatury\, z której czerpie najwięcej wiedzy i radości.\n\n\n\n\n\n\nZAPISY !!!! \nPobierz bezpłatny bilet poniżej. Pobierając bilet zapisujesz dziecko na cały cykl 5 spotkań bajkoterapii.\nNa maila dostaniesz potwierdzenie zapisu. Jeżeli nie otrzymasz potwierdzenia\, skontaktuj się z nami kontakt@fundacjawzrastamy.org.pl\nTrzy dni przed wydarzeniem otrzymasz e-mail z prośbą o potwierdzenie obecności.\nPamiętaj\, że jeżeli z jakiejś przyczyny nie możesz pojawić się na wydarzeniu poinformuj nas o tym\, wysyłając e-mail na adres  kontakt@fundacjawzrastamy.org.pl\n\n\n\n\n\n\n\n\nWarsztaty są bezpłatne\, liczba miejsc jest ograniczona – liczy się kolejność zgłoszeń!\nWarsztaty dla dzieci w wieku 6-9 lat zamieszkałych na terenie województwa mazowieckiego\n\n\n\n\n\n\n🌟 Sfinansowano ze środków Narodowego Instytutu Wolności – Centrum Rozwoju Społeczeństwa Obywatelskiego w ramach rządowego programu wsparcia organizacji pozarządowych „Moc Małych Społeczności”🌟
URL:https://fundacjawzrastamy.org.pl/wydarzenie/bajkowy-swiat-emocji-warsztaty-bajkoterapii-dla-dzieci-w-wieku-6-9-lat-z-wojewodztwa-mazowieckiego/
LOCATION:WZRASTAMY – Centrum rozwoju i wsparcia\, Piłsudskiego 9\, Siedlce\, mazowieckie\, 08-110\, Poland
CATEGORIES:Akademia emocji,Bajkoterapia,Bezpłatne,Dzieci 4-6,Dzieci 7-9
ATTACH;FMTTYPE=image/png:https://fundacjawzrastamy.org.pl/wp-content/uploads/2025/10/MMS-grafiki-akademia-emocji-22.png
ORGANIZER;CN="Fundacja WZRASTAMY":MAILTO:kontakt@fundacjawzrastamy.org.pl
END:VEVENT
BEGIN:VEVENT
DTSTART;TZID=Europe/Warsaw:20251024T181500
DTEND;TZID=Europe/Warsaw:20251024T191500
DTSTAMP:20260425T144448
CREATED:20251019T093324Z
LAST-MODIFIED:20251019T100927Z
UID:5602-1761329700-1761333300@fundacjawzrastamy.org.pl
SUMMARY:Relaksacyjna JOGA w Fundacji Wzrastamy
DESCRIPTION:🌸 ZAPRASZAMY NA RELAKSACYJNE ZAJĘCIA JOGI 🌸\nZatrzymaj się na chwilę. Odłóż codzienne obowiązki\, złap oddech i pozwól swojemu ciału oraz umysłowi odpocząć.Zapraszamy Cię na relaksacyjne zajęcia jogi\, które pomogą Ci wyciszyć się\, rozluźnić napięcia i na nowo poczuć harmonię. \nPodczas zajęć skupimy się na łagodnym ruchu\, prostych pozycjach i spokojnym oddechu.Nie potrzebujesz żadnego doświadczenia — wystarczy odrobina ciekawości i chęć zrobienia czegoś dobrego dla siebie. \nTo czas tylko dla Ciebie — czas\, by:✨ rozluźnić ciało po tygodniu pełnym obowiązków\,✨ uspokoić myśli i nabrać dystansu\,✨ poczuć lekkość\, równowagę i spokój. \n\n\n\n🧘‍♀️ Kiedy: 24 października 2025 (piątek) o godz. 18:15\n🏡 Gdzie: WZRASTAMY Centrum rozwoju i wsparcia – ul. Piłsudskiego 9\, Siedlce\, DH Chester 1 piętro\n Opłata: 10 zł\n🎒 Co zabrać: matę do jogi i wygodny strój\n🎯 Gwarantujemy relaks w kameralnej grupie max. 6 osób.\nZajęcia są otwarte — zapraszamy wszystkich\, niezależnie od poziomu zaawansowania. \n\n  \n🌿 O prowadzącej\nAgnieszka 💚 – pasjonatka jogi\, która traktuje praktykę jako sposób na lepsze samopoczucie\, spokój głowy i kontakt z ciałem.Łączy relaksacyjne podejście z elementami stretchingu i pracy z oddechem\, a gdy przychodzi ochota – także bardziej energetycznym ruchem.Stale poszerza swoją wiedzę poprzez kursy i szkolenia\, aby zajęcia były angażujące i dopasowane do potrzeb uczestników. \nWięcej jej praktyki znajdziesz na Instagramie 👉 @agonzikk \n\n\n\nZAPISY \n🎯Rezerwacja miejsca odbywa się poprzez wpłatę 💸10 zł💸 on-line przez nasz Sklep. \n💸💸💸Dokonaj wpłaty on-line\n  \nNa maila dostaniesz potwierdzenie wpłaty i to jest Twój bilet. \n Pamiętaj\, że jeżeli z jakiejś przyczyny musisz zrezygnować z udziału w warsztatach\, poinformuj nas o tym\, wysyłając e-mail na adres kontakt@fundacjawzrastamy.org.pl .  \nJeżeli informację o nieobecności wyślesz z minimum 3 dniowym wyprzedzeniem\, zwrócimy Ci pieniądze\, w przeciwnym wypadku środki nie zostaną zwrócone. \n\n\n\n\nDo zobaczenia 💖
URL:https://fundacjawzrastamy.org.pl/wydarzenie/relaksacyjna-joga-w-fundacji-wzrastamy-2410/
LOCATION:WZRASTAMY – Centrum rozwoju i wsparcia\, Piłsudskiego 9\, Siedlce\, mazowieckie\, 08-110\, Poland
CATEGORIES:Joga,MAMY wsparcie,Płatne
ATTACH;FMTTYPE=image/png:https://fundacjawzrastamy.org.pl/wp-content/uploads/2025/10/WZRASTAJACY-Pilates-3.png
ORGANIZER;CN="Fundacja WZRASTAMY":MAILTO:kontakt@fundacjawzrastamy.org.pl
END:VEVENT
END:VCALENDAR